BEGIN:VCALENDAR
VERSION:2.0
PRODID:-//Wambui Kihungi Foundation (WKF) - ECPv6.15.20//NONSGML v1.0//EN
CALSCALE:GREGORIAN
METHOD:PUBLISH
X-ORIGINAL-URL:https://wambuikihungifoundation.co.ke
X-WR-CALDESC:Events for Wambui Kihungi Foundation (WKF)
REFRESH-INTERVAL;VALUE=DURATION:PT1H
X-Robots-Tag:noindex
X-PUBLISHED-TTL:PT1H
BEGIN:VTIMEZONE
TZID:UTC
BEGIN:STANDARD
TZOFFSETFROM:+0000
TZOFFSETTO:+0000
TZNAME:UTC
DTSTART:20240101T000000
END:STANDARD
END:VTIMEZONE
BEGIN:VEVENT
DTSTART;VALUE=DATE:20251230
DTEND;VALUE=DATE:20251231
DTSTAMP:20260422T103709
CREATED:20210317T033125Z
LAST-MODIFIED:20251211T113702Z
UID:518-1767052800-1767139199@wambuikihungifoundation.co.ke
SUMMARY:Planting Trees
DESCRIPTION:Planting trees is one of the simplest yet most powerful ways to protect and restore our environment. Each tree supports cleaner air by absorbing carbon dioxide and releasing oxygen\, helps conserve water\, enriches soil health\, and provides habitat for countless species. Beyond the environmental impact\, trees also create cooler\, greener\, and more livable spaces for communities. By planting and caring for trees today\, we invest in a healthier\, more sustainable future for generations to come.
URL:https://wambuikihungifoundation.co.ke/event/play-for-the-world-with-us/
LOCATION:Nairobi\, Kiambu Municipality\, Kiambu\, Kiambu\, 00900\, Kenya
ATTACH;FMTTYPE=image/jpeg:https://wambuikihungifoundation.co.ke/wp-content/uploads/2025/12/f63829b4-eaf2-4b46-bda5-b1dc3214bc95.jpg
END:VEVENT
END:VCALENDAR